BEGIN:VCALENDAR
VERSION:2.0
PRODID:-//www.arcnbc.org//NONSGML kigkonsult.se iCalcreator 2.30.10//
CALSCALE:GREGORIAN
METHOD:PUBLISH
UID:b4f5aa59-79db-4a04-961a-a3c6c7d3b2aa
X-WR-CALDESC:
X-WR-RELCALID:3882343ec3b0254b18a91c60f49bbd95
X-WR-TIMEZONE:America/New_York
BEGIN:VTIMEZONE
TZID:America/New_York
BEGIN:STANDARD
TZNAME:EST
DTSTART:20171105T020000
TZOFFSETFROM:-0400
TZOFFSETTO:-0500
RDATE:20181104T020000
END:STANDARD
BEGIN:DAYLIGHT
TZNAME:EDT
DTSTART:20170312T020000
TZOFFSETFROM:-0500
TZOFFSETTO:-0400
RDATE:20180311T020000
RDATE:20190310T020000
END:DAYLIGHT
END:VTIMEZONE
BEGIN:VEVENT
UID:c2fc18ec-6e7a-498f-a3bf-1f58157717f9
DTSTAMP:20260423T133641Z
DESCRIPTION:
DTSTART;TZID=America/New_York:20180124T170000
DTEND;TZID=America/New_York:20180124T180000
LOCATION:Arc Attleboro/ E. Taunton Kenpo Karate
SUMMARY:Karate Class
END:VEVENT
END:VCALENDAR
