BEGIN:VCALENDAR
VERSION:2.0
PRODID:-//www.arcnbc.org//NONSGML kigkonsult.se iCalcreator 2.30.10//
CALSCALE:GREGORIAN
METHOD:PUBLISH
UID:7be179d1-a0e1-40ca-a8ec-aa5e8fcc1e4f
X-WR-CALDESC:
X-WR-RELCALID:8ca2eeb2858d3cc0d0d549aba7313749
X-WR-TIMEZONE:America/New_York
BEGIN:VTIMEZONE
TZID:America/New_York
BEGIN:STANDARD
TZNAME:EST
DTSTART:20171105T020000
TZOFFSETFROM:-0400
TZOFFSETTO:-0500
RDATE:20181104T020000
END:STANDARD
BEGIN:DAYLIGHT
TZNAME:EDT
DTSTART:20170312T020000
TZOFFSETFROM:-0500
TZOFFSETTO:-0400
RDATE:20180311T020000
RDATE:20190310T020000
END:DAYLIGHT
END:VTIMEZONE
BEGIN:VEVENT
UID:2eb0d195-18a0-481e-a092-749b0c3f0eca
DTSTAMP:20260423T152000Z
DESCRIPTION:
DTSTART;TZID=America/New_York:20180124T090000
DTEND;TZID=America/New_York:20180124T160000
LOCATION:New Bedford office
SUMMARY:First Aid/CPR\, New Bedford office
END:VEVENT
END:VCALENDAR
