BEGIN:VCALENDAR
VERSION:2.0
PRODID:-//www.arcnbc.org//NONSGML kigkonsult.se iCalcreator 2.30.10//
CALSCALE:GREGORIAN
METHOD:PUBLISH
UID:4898f71d-4618-4518-b4c5-48902beadcd5
X-WR-CALDESC:
X-WR-RELCALID:ae6ae32ac739a1aa2b013749fc51ad9e
X-WR-TIMEZONE:America/New_York
BEGIN:VTIMEZONE
TZID:America/New_York
BEGIN:STANDARD
TZNAME:EST
DTSTART:20171105T020000
TZOFFSETFROM:-0400
TZOFFSETTO:-0500
RDATE:20181104T020000
END:STANDARD
BEGIN:DAYLIGHT
TZNAME:EDT
DTSTART:20170312T020000
TZOFFSETFROM:-0500
TZOFFSETTO:-0400
RDATE:20180311T020000
RDATE:20190310T020000
END:DAYLIGHT
END:VTIMEZONE
BEGIN:VEVENT
UID:7c7176bc-0ae2-473b-97ea-2abb9997985b
DTSTAMP:20260423T151845Z
DESCRIPTION:
DTSTART;TZID=America/New_York:20180125T190000
DTEND;TZID=America/New_York:20180125T210000
LOCATION:PACC
SUMMARY:Fran's dance
END:VEVENT
END:VCALENDAR
