BEGIN:VCALENDAR
VERSION:2.0
PRODID:-//www.arcnbc.org//NONSGML kigkonsult.se iCalcreator 2.30.10//
CALSCALE:GREGORIAN
METHOD:PUBLISH
UID:73d5080e-2283-4f14-90da-5eaeed9ac54c
X-WR-CALDESC:
X-WR-RELCALID:3a0dcc610b87e006dd2fe890b4cb452a
X-WR-TIMEZONE:America/New_York
BEGIN:VTIMEZONE
TZID:America/New_York
BEGIN:STANDARD
TZNAME:EST
DTSTART:20171105T020000
TZOFFSETFROM:-0400
TZOFFSETTO:-0500
RDATE:20181104T020000
END:STANDARD
BEGIN:DAYLIGHT
TZNAME:EDT
DTSTART:20170312T020000
TZOFFSETFROM:-0500
TZOFFSETTO:-0400
RDATE:20180311T020000
RDATE:20190310T020000
END:DAYLIGHT
END:VTIMEZONE
BEGIN:VEVENT
UID:b6603969-7d64-436e-96f9-6383e8217b52
DTSTAMP:20260423T134137Z
DESCRIPTION:
DTSTART;TZID=America/New_York:20180126T190000
DTEND;TZID=America/New_York:20180126T230000
LOCATION:Arc Attleboro
SUMMARY:'Of Mice and Men' show
END:VEVENT
END:VCALENDAR
