BEGIN:VCALENDAR
VERSION:2.0
PRODID:-//www.arcnbc.org//NONSGML kigkonsult.se iCalcreator 2.30.10//
CALSCALE:GREGORIAN
METHOD:PUBLISH
UID:8ffc3335-82ec-459b-9a1e-1bd4d7664da4
X-WR-CALDESC:
X-WR-RELCALID:78b8b0ee4835d1951a44479d8778ebc9
X-WR-TIMEZONE:America/New_York
BEGIN:VTIMEZONE
TZID:America/New_York
BEGIN:STANDARD
TZNAME:EST
DTSTART:20171105T020000
TZOFFSETFROM:-0400
TZOFFSETTO:-0500
RDATE:20181104T020000
END:STANDARD
BEGIN:DAYLIGHT
TZNAME:EDT
DTSTART:20170312T020000
TZOFFSETFROM:-0500
TZOFFSETTO:-0400
RDATE:20180311T020000
RDATE:20190310T020000
END:DAYLIGHT
END:VTIMEZONE
BEGIN:VEVENT
UID:50056bb2-5aa8-4b5e-a97e-5d465de81939
DTSTAMP:20260423T133231Z
DESCRIPTION:
DTSTART;TZID=America/New_York:20180127T090000
DTEND;TZID=America/New_York:20180127T160000
LOCATION:proAbility office
SUMMARY:NCI Smithfield office
END:VEVENT
END:VCALENDAR
