BEGIN:VCALENDAR
VERSION:2.0
PRODID:-//www.arcnbc.org//NONSGML kigkonsult.se iCalcreator 2.30.10//
CALSCALE:GREGORIAN
METHOD:PUBLISH
UID:384d03fb-0948-4338-925d-9142ed7bb8c7
X-WR-CALDESC:
X-WR-RELCALID:c138e0989e78c7570fa6b4d9e9623ec3
X-WR-TIMEZONE:America/New_York
BEGIN:VTIMEZONE
TZID:America/New_York
BEGIN:STANDARD
TZNAME:EST
DTSTART:20171105T020000
TZOFFSETFROM:-0400
TZOFFSETTO:-0500
RDATE:20181104T020000
END:STANDARD
BEGIN:DAYLIGHT
TZNAME:EDT
DTSTART:20170312T020000
TZOFFSETFROM:-0500
TZOFFSETTO:-0400
RDATE:20180311T020000
RDATE:20190310T020000
END:DAYLIGHT
END:VTIMEZONE
BEGIN:VEVENT
UID:7b436b94-cadc-487d-9c76-49e768a6ea74
DTSTAMP:20260423T151211Z
DESCRIPTION:
DTSTART;TZID=America/New_York:20180129T173000
DTEND;TZID=America/New_York:20180129T210000
LOCATION:Cinema Pub
SUMMARY:Dinner & Movie
END:VEVENT
END:VCALENDAR
