BEGIN:VCALENDAR
VERSION:2.0
PRODID:-//www.arcnbc.org//NONSGML kigkonsult.se iCalcreator 2.30.10//
CALSCALE:GREGORIAN
METHOD:PUBLISH
UID:0732d235-396e-487b-b2c8-c905e29ca6ed
X-WR-CALDESC:
X-WR-RELCALID:f9266f7ec13cf1bb699e8e697d485ca3
X-WR-TIMEZONE:America/New_York
BEGIN:VTIMEZONE
TZID:America/New_York
BEGIN:STANDARD
TZNAME:EST
DTSTART:20171105T020000
TZOFFSETFROM:-0400
TZOFFSETTO:-0500
RDATE:20181104T020000
END:STANDARD
BEGIN:DAYLIGHT
TZNAME:EDT
DTSTART:20170312T020000
TZOFFSETFROM:-0500
TZOFFSETTO:-0400
RDATE:20180311T020000
RDATE:20190310T020000
END:DAYLIGHT
END:VTIMEZONE
BEGIN:VEVENT
UID:32fdece2-99a8-4691-9c03-526e1fde6bd7
DTSTAMP:20260423T133809Z
DESCRIPTION:
DTSTART;TZID=America/New_York:20180130T173000
DTEND;TZID=America/New_York:20180130T183000
LOCATION:TARC
SUMMARY:Zumba
END:VEVENT
END:VCALENDAR
