BEGIN:VCALENDAR
VERSION:2.0
PRODID:-//www.arcnbc.org//NONSGML kigkonsult.se iCalcreator 2.30.10//
CALSCALE:GREGORIAN
METHOD:PUBLISH
UID:7d68aa0b-484f-43b5-b39b-d0547d626648
X-WR-CALDESC:
X-WR-RELCALID:5a45ed494caf8bc1502e57a6daad27d1
X-WR-TIMEZONE:America/New_York
BEGIN:VTIMEZONE
TZID:America/New_York
BEGIN:STANDARD
TZNAME:EST
DTSTART:20171105T020000
TZOFFSETFROM:-0400
TZOFFSETTO:-0500
RDATE:20181104T020000
END:STANDARD
BEGIN:DAYLIGHT
TZNAME:EDT
DTSTART:20170312T020000
TZOFFSETFROM:-0500
TZOFFSETTO:-0400
RDATE:20180311T020000
RDATE:20190310T020000
END:DAYLIGHT
END:VTIMEZONE
BEGIN:VEVENT
UID:67685d4c-34e0-4950-a345-451460d39e36
DTSTAMP:20260423T134138Z
DESCRIPTION:
DTSTART;TZID=America/New_York:20180130T153000
DTEND;TZID=America/New_York:20180130T163000
LOCATION:TARC
SUMMARY:New England Reptile and Raptor show
END:VEVENT
END:VCALENDAR
