BEGIN:VCALENDAR
VERSION:2.0
PRODID:-//www.arcnbc.org//NONSGML kigkonsult.se iCalcreator 2.30.10//
CALSCALE:GREGORIAN
METHOD:PUBLISH
UID:51083e32-5930-4f5e-b887-2f156fdf7397
X-WR-CALDESC:
X-WR-RELCALID:7e3085d1d3e7f663a38ddab35d16e051
X-WR-TIMEZONE:America/New_York
BEGIN:VTIMEZONE
TZID:America/New_York
BEGIN:STANDARD
TZNAME:EST
DTSTART:20171105T020000
TZOFFSETFROM:-0400
TZOFFSETTO:-0500
RDATE:20181104T020000
END:STANDARD
BEGIN:DAYLIGHT
TZNAME:EDT
DTSTART:20170312T020000
TZOFFSETFROM:-0500
TZOFFSETTO:-0400
RDATE:20180311T020000
RDATE:20190310T020000
END:DAYLIGHT
END:VTIMEZONE
BEGIN:VEVENT
UID:c10a73d0-8f58-4f43-915c-4ce673187465
DTSTAMP:20260423T133811Z
DESCRIPTION:
DTSTART;TZID=America/New_York:20180131T150000
DTEND;TZID=America/New_York:20180131T170000
LOCATION:TARC
SUMMARY:Bingo
END:VEVENT
END:VCALENDAR
