BEGIN:VCALENDAR
VERSION:2.0
PRODID:-//www.arcnbc.org//NONSGML kigkonsult.se iCalcreator 2.30.10//
CALSCALE:GREGORIAN
METHOD:PUBLISH
UID:9e1c04b0-d2c8-4fed-b538-c900ec7cd983
X-WR-CALDESC:
X-WR-RELCALID:30ec1f66240e784403df0a8d8962fcd9
X-WR-TIMEZONE:America/New_York
BEGIN:VTIMEZONE
TZID:America/New_York
BEGIN:STANDARD
TZNAME:EST
DTSTART:20171105T020000
TZOFFSETFROM:-0400
TZOFFSETTO:-0500
RDATE:20181104T020000
END:STANDARD
BEGIN:DAYLIGHT
TZNAME:EDT
DTSTART:20170312T020000
TZOFFSETFROM:-0500
TZOFFSETTO:-0400
RDATE:20180311T020000
RDATE:20190310T020000
END:DAYLIGHT
END:VTIMEZONE
BEGIN:VEVENT
UID:738fa8d9-6cdf-41e8-9ed1-1b049719e869
DTSTAMP:20260423T133641Z
DESCRIPTION:
DTSTART;TZID=America/New_York:20180131T170000
DTEND;TZID=America/New_York:20180131T180000
LOCATION:Arc Attleboro/ E. Taunton Kenpo Karate
SUMMARY:Karate Class
END:VEVENT
END:VCALENDAR
