BEGIN:VCALENDAR
VERSION:2.0
PRODID:-//www.arcnbc.org//NONSGML kigkonsult.se iCalcreator 2.30.10//
CALSCALE:GREGORIAN
METHOD:PUBLISH
UID:9033a16b-fe65-45cb-9ad4-2ea9c7c4e9fd
X-WR-CALDESC:
X-WR-RELCALID:f6f5f383138b8e28691fac9cfa144609
X-WR-TIMEZONE:America/New_York
BEGIN:VTIMEZONE
TZID:America/New_York
BEGIN:STANDARD
TZNAME:EST
DTSTART:20171105T020000
TZOFFSETFROM:-0400
TZOFFSETTO:-0500
RDATE:20181104T020000
END:STANDARD
BEGIN:DAYLIGHT
TZNAME:EDT
DTSTART:20170312T020000
TZOFFSETFROM:-0500
TZOFFSETTO:-0400
RDATE:20180311T020000
RDATE:20190310T020000
END:DAYLIGHT
END:VTIMEZONE
BEGIN:VEVENT
UID:9284077e-b78f-46b1-8f2f-0c742fa11baf
DTSTAMP:20260423T134139Z
DESCRIPTION:
DTSTART;TZID=America/New_York:20180201T163000
DTEND;TZID=America/New_York:20180201T190000
LOCATION:TARC
SUMMARY:Movie Night
END:VEVENT
END:VCALENDAR
