BEGIN:VCALENDAR
VERSION:2.0
PRODID:-//www.arcnbc.org//NONSGML kigkonsult.se iCalcreator 2.30.10//
CALSCALE:GREGORIAN
METHOD:PUBLISH
UID:5d6c0883-882d-4859-86e0-8f6434a64e48
X-WR-CALDESC:
X-WR-RELCALID:9e4df09a01eb998342bf4ec1a515797e
X-WR-TIMEZONE:America/New_York
BEGIN:VTIMEZONE
TZID:America/New_York
BEGIN:STANDARD
TZNAME:EST
DTSTART:20171105T020000
TZOFFSETFROM:-0400
TZOFFSETTO:-0500
RDATE:20181104T020000
END:STANDARD
BEGIN:DAYLIGHT
TZNAME:EDT
DTSTART:20170312T020000
TZOFFSETFROM:-0500
TZOFFSETTO:-0400
RDATE:20180311T020000
RDATE:20190310T020000
END:DAYLIGHT
END:VTIMEZONE
BEGIN:VEVENT
UID:c352f308-57b9-4508-8586-9475debeaeca
DTSTAMP:20260423T133758Z
DESCRIPTION:
DTSTART;TZID=America/New_York:20180203T153000
DTEND;TZID=America/New_York:20180203T203000
LOCATION:Arc Attleboro
SUMMARY:College Hockey
END:VEVENT
END:VCALENDAR
