BEGIN:VCALENDAR
VERSION:2.0
PRODID:-//www.arcnbc.org//NONSGML kigkonsult.se iCalcreator 2.30.10//
CALSCALE:GREGORIAN
METHOD:PUBLISH
UID:ba2f8ecb-2b79-41da-9112-fc1d80dc0d2c
X-WR-CALDESC:
X-WR-RELCALID:732e1a9abe1426ee6995e3e85cf0d5d2
X-WR-TIMEZONE:America/New_York
BEGIN:VTIMEZONE
TZID:America/New_York
BEGIN:STANDARD
TZNAME:EST
DTSTART:20171105T020000
TZOFFSETFROM:-0400
TZOFFSETTO:-0500
RDATE:20181104T020000
END:STANDARD
BEGIN:DAYLIGHT
TZNAME:EDT
DTSTART:20170312T020000
TZOFFSETFROM:-0500
TZOFFSETTO:-0400
RDATE:20180311T020000
RDATE:20190310T020000
END:DAYLIGHT
END:VTIMEZONE
BEGIN:VEVENT
UID:e7210112-c0ca-4bda-af40-6e754cf98cd5
DTSTAMP:20260423T133507Z
DESCRIPTION:
DTSTART;TZID=America/New_York:20180205T173000
DTEND;TZID=America/New_York:20180205T213000
LOCATION:Arc Attleboro
SUMMARY:Barretts Alehouse
END:VEVENT
END:VCALENDAR
