BEGIN:VCALENDAR
VERSION:2.0
PRODID:-//www.arcnbc.org//NONSGML kigkonsult.se iCalcreator 2.30.10//
CALSCALE:GREGORIAN
METHOD:PUBLISH
UID:e83d1f8b-5a93-41f0-9503-204eadfd1e35
X-WR-CALDESC:
X-WR-RELCALID:15e747a614ab81308ec9af797ced261f
X-WR-TIMEZONE:America/New_York
BEGIN:VTIMEZONE
TZID:America/New_York
BEGIN:STANDARD
TZNAME:EST
DTSTART:20171105T020000
TZOFFSETFROM:-0400
TZOFFSETTO:-0500
RDATE:20181104T020000
END:STANDARD
BEGIN:DAYLIGHT
TZNAME:EDT
DTSTART:20170312T020000
TZOFFSETFROM:-0500
TZOFFSETTO:-0400
RDATE:20180311T020000
RDATE:20190310T020000
END:DAYLIGHT
END:VTIMEZONE
BEGIN:VEVENT
UID:72a8c437-8956-4411-ba4a-fd288b8f6efd
DTSTAMP:20260423T133146Z
DESCRIPTION:
DTSTART;TZID=America/New_York:20180205T150000
DTEND;TZID=America/New_York:20180205T170000
LOCATION:TARC
SUMMARY:Indoor Exercise
END:VEVENT
END:VCALENDAR
