BEGIN:VCALENDAR
VERSION:2.0
PRODID:-//www.arcnbc.org//NONSGML kigkonsult.se iCalcreator 2.30.10//
CALSCALE:GREGORIAN
METHOD:PUBLISH
UID:0610b386-ab2c-459d-83e0-4c5d62586d57
X-WR-CALDESC:
X-WR-RELCALID:1b5c10a6e22375507a433a240404f841
X-WR-TIMEZONE:America/New_York
BEGIN:VTIMEZONE
TZID:America/New_York
BEGIN:STANDARD
TZNAME:EST
DTSTART:20171105T020000
TZOFFSETFROM:-0400
TZOFFSETTO:-0500
RDATE:20181104T020000
END:STANDARD
BEGIN:DAYLIGHT
TZNAME:EDT
DTSTART:20170312T020000
TZOFFSETFROM:-0500
TZOFFSETTO:-0400
RDATE:20180311T020000
RDATE:20190310T020000
END:DAYLIGHT
END:VTIMEZONE
BEGIN:VEVENT
UID:9ae87ba5-afde-4df7-9ce0-5774272840a2
DTSTAMP:20260423T134042Z
DESCRIPTION:
DTSTART;TZID=America/New_York:20180206T180000
DTEND;TZID=America/New_York:20180206T213000
LOCATION:Arc Attleboro
SUMMARY:Dining with the Arc
END:VEVENT
END:VCALENDAR
