BEGIN:VCALENDAR
VERSION:2.0
PRODID:-//www.arcnbc.org//NONSGML kigkonsult.se iCalcreator 2.30.10//
CALSCALE:GREGORIAN
METHOD:PUBLISH
UID:b59028f9-e2a3-46eb-b4e7-aef3bf05e82f
X-WR-CALDESC:
X-WR-RELCALID:b0c091b2768d96c26c99d9984c79f31f
X-WR-TIMEZONE:America/New_York
BEGIN:VTIMEZONE
TZID:America/New_York
BEGIN:STANDARD
TZNAME:EST
DTSTART:20171105T020000
TZOFFSETFROM:-0400
TZOFFSETTO:-0500
RDATE:20181104T020000
END:STANDARD
BEGIN:DAYLIGHT
TZNAME:EDT
DTSTART:20170312T020000
TZOFFSETFROM:-0500
TZOFFSETTO:-0400
RDATE:20180311T020000
RDATE:20190310T020000
END:DAYLIGHT
END:VTIMEZONE
BEGIN:VEVENT
UID:d27c4c56-ef6f-432f-b95c-4fa922e8c9e4
DTSTAMP:20260423T133155Z
DESCRIPTION:
DTSTART;TZID=America/New_York:20180206T150000
DTEND;TZID=America/New_York:20180206T170000
LOCATION:TARC
SUMMARY:WII Games
END:VEVENT
END:VCALENDAR
