BEGIN:VCALENDAR
VERSION:2.0
PRODID:-//www.arcnbc.org//NONSGML kigkonsult.se iCalcreator 2.30.10//
CALSCALE:GREGORIAN
METHOD:PUBLISH
UID:fedaa4e7-50ad-4b5c-9128-5cb31813f781
X-WR-CALDESC:
X-WR-RELCALID:ee40fd472d552dd56891aebb7caca2bf
X-WR-TIMEZONE:America/New_York
BEGIN:VTIMEZONE
TZID:America/New_York
BEGIN:STANDARD
TZNAME:EST
DTSTART:20171105T020000
TZOFFSETFROM:-0400
TZOFFSETTO:-0500
RDATE:20181104T020000
END:STANDARD
BEGIN:DAYLIGHT
TZNAME:EDT
DTSTART:20170312T020000
TZOFFSETFROM:-0500
TZOFFSETTO:-0400
RDATE:20180311T020000
RDATE:20190310T020000
END:DAYLIGHT
END:VTIMEZONE
BEGIN:VEVENT
UID:debbb7dc-0564-4df2-99e6-e21b9321514d
DTSTAMP:20260423T133224Z
DESCRIPTION:
DTSTART;TZID=America/New_York:20180208T090000
DTEND;TZID=America/New_York:20180208T160000
LOCATION:
SUMMARY:First Aid/CPR\, Attleboro office
END:VEVENT
END:VCALENDAR
