BEGIN:VCALENDAR
VERSION:2.0
PRODID:-//www.arcnbc.org//NONSGML kigkonsult.se iCalcreator 2.30.10//
CALSCALE:GREGORIAN
METHOD:PUBLISH
UID:4c796bea-bf08-4869-8f25-00e73ab93fe4
X-WR-CALDESC:
X-WR-RELCALID:be8c8b8734e103fda9935f486ce49202
X-WR-TIMEZONE:America/New_York
BEGIN:VTIMEZONE
TZID:America/New_York
BEGIN:STANDARD
TZNAME:EST
DTSTART:20171105T020000
TZOFFSETFROM:-0400
TZOFFSETTO:-0500
RDATE:20181104T020000
END:STANDARD
BEGIN:DAYLIGHT
TZNAME:EDT
DTSTART:20170312T020000
TZOFFSETFROM:-0500
TZOFFSETTO:-0400
RDATE:20180311T020000
RDATE:20190310T020000
END:DAYLIGHT
END:VTIMEZONE
BEGIN:VEVENT
UID:6dbead4b-d5bc-4a66-a856-2916d61a4cd0
DTSTAMP:20260423T133223Z
DESCRIPTION:
DTSTART;TZID=America/New_York:20180207T100000
DTEND;TZID=America/New_York:20180208T160000
LOCATION:
SUMMARY:Orientation\, Smithfield office
END:VEVENT
END:VCALENDAR
