BEGIN:VCALENDAR
VERSION:2.0
PRODID:-//www.arcnbc.org//NONSGML kigkonsult.se iCalcreator 2.30.10//
CALSCALE:GREGORIAN
METHOD:PUBLISH
UID:331111c0-e6ff-40cd-866d-3b3b61570dbf
X-WR-CALDESC:
X-WR-RELCALID:15c982a96d83614fdae402893408a71d
X-WR-TIMEZONE:America/New_York
BEGIN:VTIMEZONE
TZID:America/New_York
BEGIN:STANDARD
TZNAME:EST
DTSTART:20171105T020000
TZOFFSETFROM:-0400
TZOFFSETTO:-0500
RDATE:20181104T020000
END:STANDARD
BEGIN:DAYLIGHT
TZNAME:EDT
DTSTART:20170312T020000
TZOFFSETFROM:-0500
TZOFFSETTO:-0400
RDATE:20180311T020000
RDATE:20190310T020000
END:DAYLIGHT
END:VTIMEZONE
BEGIN:VEVENT
UID:de102ae2-d4f0-42e7-a052-daa6c12ddd84
DTSTAMP:20260423T133757Z
DESCRIPTION:
DTSTART;TZID=America/New_York:20180209T190000
DTEND;TZID=America/New_York:20180209T210000
LOCATION:Attleboro YMCA Pleasant St. Branch
SUMMARY:GO Night
END:VEVENT
END:VCALENDAR
