BEGIN:VCALENDAR
VERSION:2.0
PRODID:-//www.arcnbc.org//NONSGML kigkonsult.se iCalcreator 2.30.10//
CALSCALE:GREGORIAN
METHOD:PUBLISH
UID:97db949e-8394-430c-ac0c-85e4174613a6
X-WR-CALDESC:
X-WR-RELCALID:c8f7040aa1b833681964046ec07b2552
X-WR-TIMEZONE:America/New_York
BEGIN:VTIMEZONE
TZID:America/New_York
BEGIN:STANDARD
TZNAME:EST
DTSTART:20171105T020000
TZOFFSETFROM:-0400
TZOFFSETTO:-0500
RDATE:20181104T020000
END:STANDARD
BEGIN:DAYLIGHT
TZNAME:EDT
DTSTART:20170312T020000
TZOFFSETFROM:-0500
TZOFFSETTO:-0400
RDATE:20180311T020000
RDATE:20190310T020000
END:DAYLIGHT
END:VTIMEZONE
BEGIN:VEVENT
UID:1e4b2055-f5f8-47cc-be1d-624f36e07e7c
DTSTAMP:20260423T133153Z
DESCRIPTION:
DTSTART;TZID=America/New_York:20180209T090000
DTEND;TZID=America/New_York:20180209T160000
LOCATION:
SUMMARY:NCI\, Attleboro office
END:VEVENT
END:VCALENDAR
