BEGIN:VCALENDAR
VERSION:2.0
PRODID:-//www.arcnbc.org//NONSGML kigkonsult.se iCalcreator 2.30.10//
CALSCALE:GREGORIAN
METHOD:PUBLISH
UID:0e4c3c4b-e13b-45c6-851d-185285551c8d
X-WR-CALDESC:
X-WR-RELCALID:684d8739ed7bcd0b7f592f3a02d60622
X-WR-TIMEZONE:America/New_York
BEGIN:VTIMEZONE
TZID:America/New_York
BEGIN:STANDARD
TZNAME:EST
DTSTART:20171105T020000
TZOFFSETFROM:-0400
TZOFFSETTO:-0500
RDATE:20181104T020000
END:STANDARD
BEGIN:DAYLIGHT
TZNAME:EDT
DTSTART:20170312T020000
TZOFFSETFROM:-0500
TZOFFSETTO:-0400
RDATE:20180311T020000
RDATE:20190310T020000
END:DAYLIGHT
END:VTIMEZONE
BEGIN:VEVENT
UID:b73b41e9-ca90-4a4a-a2c9-0c0fbec1b572
DTSTAMP:20260423T133652Z
DESCRIPTION:
DTSTART;TZID=America/New_York:20180210T120000
DTEND;TZID=America/New_York:20180210T150000
LOCATION:Arc Attleboro
SUMMARY:College Basketball
END:VEVENT
END:VCALENDAR
