BEGIN:VCALENDAR
VERSION:2.0
PRODID:-//www.arcnbc.org//NONSGML kigkonsult.se iCalcreator 2.30.10//
CALSCALE:GREGORIAN
METHOD:PUBLISH
UID:58d601ac-331e-4506-8839-47b67ca01d23
X-WR-CALDESC:
X-WR-RELCALID:f310efbf0b5ba0062fdbeefe90879973
X-WR-TIMEZONE:America/New_York
BEGIN:VTIMEZONE
TZID:America/New_York
BEGIN:STANDARD
TZNAME:EST
DTSTART:20171105T020000
TZOFFSETFROM:-0400
TZOFFSETTO:-0500
RDATE:20181104T020000
END:STANDARD
BEGIN:DAYLIGHT
TZNAME:EDT
DTSTART:20170312T020000
TZOFFSETFROM:-0500
TZOFFSETTO:-0400
RDATE:20180311T020000
RDATE:20190310T020000
END:DAYLIGHT
END:VTIMEZONE
BEGIN:VEVENT
UID:429093d1-f7a2-4d37-a3af-6542b8afe50c
DTSTAMP:20260423T133811Z
DESCRIPTION:
DTSTART;TZID=America/New_York:20180212T150000
DTEND;TZID=America/New_York:20180212T170000
LOCATION:TARC
SUMMARY:Games
END:VEVENT
END:VCALENDAR
