BEGIN:VCALENDAR
VERSION:2.0
PRODID:-//www.arcnbc.org//NONSGML kigkonsult.se iCalcreator 2.30.10//
CALSCALE:GREGORIAN
METHOD:PUBLISH
UID:7a8545e1-0214-4279-8d39-096dafbb35bb
X-WR-CALDESC:
X-WR-RELCALID:b6cc8610a272d53f0b874bce9acc5b9b
X-WR-TIMEZONE:America/New_York
BEGIN:VTIMEZONE
TZID:America/New_York
BEGIN:STANDARD
TZNAME:EST
DTSTART:20171105T020000
TZOFFSETFROM:-0400
TZOFFSETTO:-0500
RDATE:20181104T020000
END:STANDARD
BEGIN:DAYLIGHT
TZNAME:EDT
DTSTART:20170312T020000
TZOFFSETFROM:-0500
TZOFFSETTO:-0400
RDATE:20180311T020000
RDATE:20190310T020000
END:DAYLIGHT
END:VTIMEZONE
BEGIN:VEVENT
UID:b6492526-47d0-4bd4-ba67-ee66a3381559
DTSTAMP:20260423T133958Z
DESCRIPTION:
DTSTART;TZID=America/New_York:20180213T173000
DTEND;TZID=America/New_York:20180213T183000
LOCATION:TARC
SUMMARY:Zumba
END:VEVENT
END:VCALENDAR
