BEGIN:VCALENDAR
VERSION:2.0
PRODID:-//www.arcnbc.org//NONSGML kigkonsult.se iCalcreator 2.30.10//
CALSCALE:GREGORIAN
METHOD:PUBLISH
UID:d7f12d07-09db-4243-88e3-297ba74a740f
X-WR-CALDESC:
X-WR-RELCALID:981056268170c057e02bd04201e7d201
X-WR-TIMEZONE:America/New_York
BEGIN:VTIMEZONE
TZID:America/New_York
BEGIN:STANDARD
TZNAME:EST
DTSTART:20171105T020000
TZOFFSETFROM:-0400
TZOFFSETTO:-0500
RDATE:20181104T020000
END:STANDARD
BEGIN:DAYLIGHT
TZNAME:EDT
DTSTART:20170312T020000
TZOFFSETFROM:-0500
TZOFFSETTO:-0400
RDATE:20180311T020000
RDATE:20190310T020000
END:DAYLIGHT
END:VTIMEZONE
BEGIN:VEVENT
UID:538d1986-71f4-41f0-8325-92280d9b8713
DTSTAMP:20260423T134139Z
DESCRIPTION:
DTSTART;TZID=America/New_York:20180213T103000
DTEND;TZID=America/New_York:20180213T130000
LOCATION:
SUMMARY:Supporting Families Advocacy Day
END:VEVENT
END:VCALENDAR
