BEGIN:VCALENDAR
VERSION:2.0
PRODID:-//www.arcnbc.org//NONSGML kigkonsult.se iCalcreator 2.30.10//
CALSCALE:GREGORIAN
METHOD:PUBLISH
UID:8a8d7915-5b96-45a7-9e8d-0cab1f56a573
X-WR-CALDESC:
X-WR-RELCALID:f9396576a10f0683d82eb63d406ec66e
X-WR-TIMEZONE:America/New_York
BEGIN:VTIMEZONE
TZID:America/New_York
BEGIN:STANDARD
TZNAME:EST
DTSTART:20171105T020000
TZOFFSETFROM:-0400
TZOFFSETTO:-0500
RDATE:20181104T020000
END:STANDARD
BEGIN:DAYLIGHT
TZNAME:EDT
DTSTART:20170312T020000
TZOFFSETFROM:-0500
TZOFFSETTO:-0400
RDATE:20180311T020000
RDATE:20190310T020000
END:DAYLIGHT
END:VTIMEZONE
BEGIN:VEVENT
UID:4aeea0bc-8a95-41e5-b3f0-62a305ab2df3
DTSTAMP:20260423T134042Z
DESCRIPTION:
DTSTART;TZID=America/New_York:20180214T150000
DTEND;TZID=America/New_York:20180214T170000
LOCATION:TARC
SUMMARY:Arts and Crafts
END:VEVENT
END:VCALENDAR
