BEGIN:VCALENDAR
VERSION:2.0
PRODID:-//www.arcnbc.org//NONSGML kigkonsult.se iCalcreator 2.30.10//
CALSCALE:GREGORIAN
METHOD:PUBLISH
UID:c7d87349-0836-4b99-92cd-9c0ebf4196e3
X-WR-CALDESC:A welcoming place for individuals living with memory changes a
 re their care partners. Join us for an afternoon filled with music\, valen
 tine bingo\, and more...
X-WR-RELCALID:6ee396686bd8ad1f219b8d0ad2289b22
X-WR-TIMEZONE:America/New_York
BEGIN:VTIMEZONE
TZID:America/New_York
BEGIN:STANDARD
TZNAME:EST
DTSTART:20171105T020000
TZOFFSETFROM:-0400
TZOFFSETTO:-0500
RDATE:20181104T020000
END:STANDARD
BEGIN:DAYLIGHT
TZNAME:EDT
DTSTART:20170312T020000
TZOFFSETFROM:-0500
TZOFFSETTO:-0400
RDATE:20180311T020000
RDATE:20190310T020000
END:DAYLIGHT
END:VTIMEZONE
BEGIN:VEVENT
UID:11b43ac3-5d9b-4ab5-bdc4-e98432606dec
DTSTAMP:20260423T133045Z
DESCRIPTION:A welcoming place for individuals living with memory changes ar
 e their care partners. Join us for an afternoon filled with music\, valent
 ine bingo\, and more...
DTSTART;TZID=America/New_York:20180214T133000
DTEND;TZID=America/New_York:20180214T150000
LOCATION:Attleboro Public Library
SUMMARY:Memory Cafe
END:VEVENT
END:VCALENDAR
