BEGIN:VCALENDAR
VERSION:2.0
PRODID:-//www.arcnbc.org//NONSGML kigkonsult.se iCalcreator 2.30.10//
CALSCALE:GREGORIAN
METHOD:PUBLISH
UID:69a11952-6d98-4f99-82d2-42769e746cca
X-WR-CALDESC:
X-WR-RELCALID:49ea44c27bd13ab44933c21fd6c48146
X-WR-TIMEZONE:America/New_York
BEGIN:VTIMEZONE
TZID:America/New_York
BEGIN:STANDARD
TZNAME:EST
DTSTART:20171105T020000
TZOFFSETFROM:-0400
TZOFFSETTO:-0500
RDATE:20181104T020000
END:STANDARD
BEGIN:DAYLIGHT
TZNAME:EDT
DTSTART:20170312T020000
TZOFFSETFROM:-0500
TZOFFSETTO:-0400
RDATE:20180311T020000
RDATE:20190310T020000
END:DAYLIGHT
END:VTIMEZONE
BEGIN:VEVENT
UID:41130f2e-b38b-4e0c-a809-c2748527ec6e
DTSTAMP:20260423T133650Z
DESCRIPTION:
DTSTART;TZID=America/New_York:20180216T183000
DTEND;TZID=America/New_York:20180216T210000
LOCATION:Arc Attleboro
SUMMARY:Winter Dance Recital
END:VEVENT
END:VCALENDAR
