BEGIN:VCALENDAR
VERSION:2.0
PRODID:-//www.arcnbc.org//NONSGML kigkonsult.se iCalcreator 2.30.10//
CALSCALE:GREGORIAN
METHOD:PUBLISH
UID:d5d369a2-e897-4cfe-a682-27c87bd84d9a
X-WR-CALDESC:
X-WR-RELCALID:ccc5432d35e855a7742280f095921cdf
X-WR-TIMEZONE:America/New_York
BEGIN:VTIMEZONE
TZID:America/New_York
BEGIN:STANDARD
TZNAME:EST
DTSTART:20171105T020000
TZOFFSETFROM:-0400
TZOFFSETTO:-0500
RDATE:20181104T020000
END:STANDARD
BEGIN:DAYLIGHT
TZNAME:EDT
DTSTART:20170312T020000
TZOFFSETFROM:-0500
TZOFFSETTO:-0400
RDATE:20180311T020000
RDATE:20190310T020000
END:DAYLIGHT
END:VTIMEZONE
BEGIN:VEVENT
UID:82bc9582-4329-41ff-829a-39938ec20e97
DTSTAMP:20260423T133507Z
DESCRIPTION:
DTSTART;TZID=America/New_York:20180217T190000
DTEND;TZID=America/New_York:20180217T210000
LOCATION:Canoe River Campground
SUMMARY:Valentine's Dance
END:VEVENT
END:VCALENDAR
