BEGIN:VCALENDAR
VERSION:2.0
PRODID:-//www.arcnbc.org//NONSGML kigkonsult.se iCalcreator 2.30.10//
CALSCALE:GREGORIAN
METHOD:PUBLISH
UID:4f077259-3b11-44da-9b3c-76263e4bd80d
X-WR-CALDESC:Norton CC\n188 Oak Street\, Norton\, MA
X-WR-RELCALID:9c9659da8a3885a26f2b4f70b18d93d2
X-WR-TIMEZONE:America/New_York
BEGIN:VTIMEZONE
TZID:America/New_York
BEGIN:STANDARD
TZNAME:EST
DTSTART:20171105T020000
TZOFFSETFROM:-0400
TZOFFSETTO:-0500
RDATE:20181104T020000
END:STANDARD
BEGIN:DAYLIGHT
TZNAME:EDT
DTSTART:20170312T020000
TZOFFSETFROM:-0500
TZOFFSETTO:-0400
RDATE:20180311T020000
RDATE:20190310T020000
END:DAYLIGHT
END:VTIMEZONE
BEGIN:VEVENT
UID:9ca18eba-780d-4fcb-b74d-792e75293685
DTSTAMP:20260423T133046Z
DESCRIPTION:Norton CC\n188 Oak Street\, Norton\, MA
DTSTART;TZID=America/New_York:20180219T083000
DTEND;TZID=America/New_York:20180219T093000
LOCATION:
SUMMARY:Professional Development Session
END:VEVENT
END:VCALENDAR
