BEGIN:VCALENDAR
VERSION:2.0
PRODID:-//www.arcnbc.org//NONSGML kigkonsult.se iCalcreator 2.30.10//
CALSCALE:GREGORIAN
METHOD:PUBLISH
UID:c1a3548c-6554-49be-8c09-be4a7950f2df
X-WR-CALDESC:
X-WR-RELCALID:b52925f2c4b520c11130c333c592e770
X-WR-TIMEZONE:America/New_York
BEGIN:VTIMEZONE
TZID:America/New_York
BEGIN:STANDARD
TZNAME:EST
DTSTART:20171105T020000
TZOFFSETFROM:-0400
TZOFFSETTO:-0500
RDATE:20181104T020000
END:STANDARD
BEGIN:DAYLIGHT
TZNAME:EDT
DTSTART:20170312T020000
TZOFFSETFROM:-0500
TZOFFSETTO:-0400
RDATE:20180311T020000
RDATE:20190310T020000
END:DAYLIGHT
END:VTIMEZONE
BEGIN:VEVENT
UID:c9c2bf3a-9844-4561-ba0c-1bc30cb96f12
DTSTAMP:20260423T133650Z
DESCRIPTION:
DTSTART;TZID=America/New_York:20180221T150000
DTEND;TZID=America/New_York:20180221T170000
LOCATION:TARC
SUMMARY:Bingo
END:VEVENT
END:VCALENDAR
