BEGIN:VCALENDAR
VERSION:2.0
PRODID:-//www.arcnbc.org//NONSGML kigkonsult.se iCalcreator 2.30.10//
CALSCALE:GREGORIAN
METHOD:PUBLISH
UID:233957e7-bdcb-4c63-bd86-bd0e25c160db
X-WR-CALDESC:
X-WR-RELCALID:4c4ce4e3685b30822cc380532c9c4c34
X-WR-TIMEZONE:America/New_York
BEGIN:VTIMEZONE
TZID:America/New_York
BEGIN:STANDARD
TZNAME:EST
DTSTART:20171105T020000
TZOFFSETFROM:-0400
TZOFFSETTO:-0500
RDATE:20181104T020000
END:STANDARD
BEGIN:DAYLIGHT
TZNAME:EDT
DTSTART:20170312T020000
TZOFFSETFROM:-0500
TZOFFSETTO:-0400
RDATE:20180311T020000
RDATE:20190310T020000
END:DAYLIGHT
END:VTIMEZONE
BEGIN:VEVENT
UID:fc6961ee-0b5f-4887-8d0d-960137eb22ce
DTSTAMP:20260423T133322Z
DESCRIPTION:
DTSTART;TZID=America/New_York:20180222T090000
DTEND;TZID=America/New_York:20180222T160000
LOCATION:Smithfield office
SUMMARY:NCI\, Smithfield office
END:VEVENT
END:VCALENDAR
