BEGIN:VCALENDAR
VERSION:2.0
PRODID:-//www.arcnbc.org//NONSGML kigkonsult.se iCalcreator 2.30.10//
CALSCALE:GREGORIAN
METHOD:PUBLISH
UID:157837d4-8b8e-4edc-bbc3-6da19bf3fb56
X-WR-CALDESC:
X-WR-RELCALID:56fc3bcfb9472cdf429e201969e574a2
X-WR-TIMEZONE:America/New_York
BEGIN:VTIMEZONE
TZID:America/New_York
BEGIN:STANDARD
TZNAME:EST
DTSTART:20171105T020000
TZOFFSETFROM:-0400
TZOFFSETTO:-0500
RDATE:20181104T020000
END:STANDARD
BEGIN:DAYLIGHT
TZNAME:EDT
DTSTART:20170312T020000
TZOFFSETFROM:-0500
TZOFFSETTO:-0400
RDATE:20180311T020000
RDATE:20190310T020000
END:DAYLIGHT
END:VTIMEZONE
BEGIN:VEVENT
UID:99a68bfc-f7f7-4e3f-ab5a-f628c3700bdc
DTSTAMP:20260423T134031Z
DESCRIPTION:
DTSTART;TZID=America/New_York:20180226T173000
DTEND;TZID=America/New_York:20180226T183000
LOCATION:Arc Attleboro
SUMMARY:Self Advocacy Meeting
END:VEVENT
END:VCALENDAR
