BEGIN:VCALENDAR
VERSION:2.0
PRODID:-//www.arcnbc.org//NONSGML kigkonsult.se iCalcreator 2.30.10//
CALSCALE:GREGORIAN
METHOD:PUBLISH
UID:09d1630f-2632-43be-8845-7c376eb342e6
X-WR-CALDESC:
X-WR-RELCALID:a5a2d287bc00165e85700e07afb2b01b
X-WR-TIMEZONE:America/New_York
BEGIN:VTIMEZONE
TZID:America/New_York
BEGIN:STANDARD
TZNAME:EST
DTSTART:20171105T020000
TZOFFSETFROM:-0400
TZOFFSETTO:-0500
RDATE:20181104T020000
END:STANDARD
BEGIN:DAYLIGHT
TZNAME:EDT
DTSTART:20170312T020000
TZOFFSETFROM:-0500
TZOFFSETTO:-0400
RDATE:20180311T020000
RDATE:20190310T020000
END:DAYLIGHT
END:VTIMEZONE
BEGIN:VEVENT
UID:1b50e820-f5be-417f-a4f3-55c2e1ded536
DTSTAMP:20260423T134023Z
DESCRIPTION:
DTSTART;TZID=America/New_York:20180227T173000
DTEND;TZID=America/New_York:20180227T183000
LOCATION:TARC
SUMMARY:Zumba
END:VEVENT
END:VCALENDAR
