BEGIN:VCALENDAR
VERSION:2.0
PRODID:-//www.arcnbc.org//NONSGML kigkonsult.se iCalcreator 2.30.10//
CALSCALE:GREGORIAN
METHOD:PUBLISH
UID:49006b79-3b16-4f2c-b8b1-a475911301fb
X-WR-CALDESC:
X-WR-RELCALID:1754e655c1904f8360ad372303210030
X-WR-TIMEZONE:America/New_York
BEGIN:VTIMEZONE
TZID:America/New_York
BEGIN:STANDARD
TZNAME:EST
DTSTART:20171105T020000
TZOFFSETFROM:-0400
TZOFFSETTO:-0500
RDATE:20181104T020000
END:STANDARD
BEGIN:DAYLIGHT
TZNAME:EDT
DTSTART:20170312T020000
TZOFFSETFROM:-0500
TZOFFSETTO:-0400
RDATE:20180311T020000
RDATE:20190310T020000
END:DAYLIGHT
END:VTIMEZONE
BEGIN:VEVENT
UID:53d56749-d6b1-45c3-87b4-9045b5f88837
DTSTAMP:20260423T134139Z
DESCRIPTION:
DTSTART;TZID=America/New_York:20180228T150000
DTEND;TZID=America/New_York:20180228T170000
LOCATION:TARC
SUMMARY:Arts and Crafts
END:VEVENT
END:VCALENDAR
