BEGIN:VCALENDAR
VERSION:2.0
PRODID:-//www.arcnbc.org//NONSGML kigkonsult.se iCalcreator 2.30.10//
CALSCALE:GREGORIAN
METHOD:PUBLISH
UID:31160d7d-5723-4488-93b0-0a29057238cc
X-WR-CALDESC:
X-WR-RELCALID:7a9579515dfb3e3a26c89fb56b687205
X-WR-TIMEZONE:America/New_York
BEGIN:VTIMEZONE
TZID:America/New_York
BEGIN:STANDARD
TZNAME:EST
DTSTART:20171105T020000
TZOFFSETFROM:-0400
TZOFFSETTO:-0500
RDATE:20181104T020000
END:STANDARD
BEGIN:DAYLIGHT
TZNAME:EDT
DTSTART:20170312T020000
TZOFFSETFROM:-0500
TZOFFSETTO:-0400
RDATE:20180311T020000
RDATE:20190310T020000
END:DAYLIGHT
END:VTIMEZONE
BEGIN:VEVENT
UID:9ae26233-b88a-4777-ada2-6de4d8274ef2
DTSTAMP:20260423T133847Z
DESCRIPTION:
DTSTART;TZID=America/New_York:20180228T160000
DTEND;TZID=America/New_York:20180228T190000
LOCATION:Arc Attleboro
SUMMARY:Karate
END:VEVENT
END:VCALENDAR
