BEGIN:VCALENDAR
VERSION:2.0
PRODID:-//www.arcnbc.org//NONSGML kigkonsult.se iCalcreator 2.30.10//
CALSCALE:GREGORIAN
METHOD:PUBLISH
UID:e1f3e50e-d8db-44e5-9883-cfacd3561dc0
X-WR-CALDESC:
X-WR-RELCALID:3dbe1a572dde43086f96ea4638004c84
X-WR-TIMEZONE:America/New_York
BEGIN:VTIMEZONE
TZID:America/New_York
BEGIN:STANDARD
TZNAME:EST
DTSTART:20171105T020000
TZOFFSETFROM:-0400
TZOFFSETTO:-0500
RDATE:20181104T020000
END:STANDARD
BEGIN:DAYLIGHT
TZNAME:EDT
DTSTART:20170312T020000
TZOFFSETFROM:-0500
TZOFFSETTO:-0400
RDATE:20180311T020000
RDATE:20190310T020000
END:DAYLIGHT
END:VTIMEZONE
BEGIN:VEVENT
UID:e630b667-4106-4878-ae63-8bc8b0bddd37
DTSTAMP:20260423T133825Z
DESCRIPTION:
DTSTART;TZID=America/New_York:20180302T160000
DTEND;TZID=America/New_York:20180302T200000
LOCATION:Arc Attleboro
SUMMARY:CANCELLED-MOM Ride & LITE Show
END:VEVENT
END:VCALENDAR
