BEGIN:VCALENDAR
VERSION:2.0
PRODID:-//www.arcnbc.org//NONSGML kigkonsult.se iCalcreator 2.30.10//
CALSCALE:GREGORIAN
METHOD:PUBLISH
UID:9229077f-4a84-43bd-84ab-3164b7a14e9c
X-WR-CALDESC:
X-WR-RELCALID:8c5c2c6b554c40490ce748b7cd73200b
X-WR-TIMEZONE:America/New_York
BEGIN:VTIMEZONE
TZID:America/New_York
BEGIN:STANDARD
TZNAME:EST
DTSTART:20171105T020000
TZOFFSETFROM:-0400
TZOFFSETTO:-0500
RDATE:20181104T020000
END:STANDARD
BEGIN:DAYLIGHT
TZNAME:EDT
DTSTART:20170312T020000
TZOFFSETFROM:-0500
TZOFFSETTO:-0400
RDATE:20180311T020000
RDATE:20190310T020000
END:DAYLIGHT
END:VTIMEZONE
BEGIN:VEVENT
UID:bb1df2f8-c986-45b2-863a-9a23e8d51bc8
DTSTAMP:20260423T133827Z
DESCRIPTION:
DTSTART;TZID=America/New_York:20180305T150000
DTEND;TZID=America/New_York:20180305T170000
LOCATION:TARC
SUMMARY:Indoor Exercise
END:VEVENT
END:VCALENDAR
