BEGIN:VCALENDAR
VERSION:2.0
PRODID:-//www.arcnbc.org//NONSGML kigkonsult.se iCalcreator 2.30.10//
CALSCALE:GREGORIAN
METHOD:PUBLISH
UID:3c9945b7-723c-4cc9-8925-4ed00dec250b
X-WR-CALDESC:
X-WR-RELCALID:fb89800b09349fba8ed7f242f6af7679
X-WR-TIMEZONE:America/New_York
BEGIN:VTIMEZONE
TZID:America/New_York
BEGIN:STANDARD
TZNAME:EST
DTSTART:20171105T020000
TZOFFSETFROM:-0400
TZOFFSETTO:-0500
RDATE:20181104T020000
END:STANDARD
BEGIN:DAYLIGHT
TZNAME:EDT
DTSTART:20170312T020000
TZOFFSETFROM:-0500
TZOFFSETTO:-0400
RDATE:20180311T020000
RDATE:20190310T020000
END:DAYLIGHT
END:VTIMEZONE
BEGIN:VEVENT
UID:882e2eb4-2ae4-4f2c-834e-838dcd501c7a
DTSTAMP:20260423T133757Z
DESCRIPTION:
DTSTART;TZID=America/New_York:20180305T173000
DTEND;TZID=America/New_York:20180305T210000
LOCATION:Cinema Pub
SUMMARY:CANCELLED - Dinner & Movie
END:VEVENT
END:VCALENDAR
