BEGIN:VCALENDAR
VERSION:2.0
PRODID:-//www.arcnbc.org//NONSGML kigkonsult.se iCalcreator 2.30.10//
CALSCALE:GREGORIAN
METHOD:PUBLISH
UID:cb01a872-a866-46ba-be9a-8ea3bc35eba0
X-WR-CALDESC:
X-WR-RELCALID:e4208138d002e3f9192972523c61fbad
X-WR-TIMEZONE:America/New_York
BEGIN:VTIMEZONE
TZID:America/New_York
BEGIN:STANDARD
TZNAME:EST
DTSTART:20171105T020000
TZOFFSETFROM:-0400
TZOFFSETTO:-0500
RDATE:20181104T020000
END:STANDARD
BEGIN:DAYLIGHT
TZNAME:EDT
DTSTART:20170312T020000
TZOFFSETFROM:-0500
TZOFFSETTO:-0400
RDATE:20180311T020000
RDATE:20190310T020000
END:DAYLIGHT
END:VTIMEZONE
BEGIN:VEVENT
UID:27bf8123-6213-41aa-b832-419391ec5e9c
DTSTAMP:20260423T134033Z
DESCRIPTION:
DTSTART;TZID=America/New_York:20180306T180000
DTEND;TZID=America/New_York:20180306T213000
LOCATION:Arc Attleboro
SUMMARY:Dining with the Arc
END:VEVENT
END:VCALENDAR
