BEGIN:VCALENDAR
VERSION:2.0
PRODID:-//www.arcnbc.org//NONSGML kigkonsult.se iCalcreator 2.30.10//
CALSCALE:GREGORIAN
METHOD:PUBLISH
UID:3658a200-dc0e-4869-838f-fe67377f217f
X-WR-CALDESC:
X-WR-RELCALID:3e94fe05667792120c02c4fd9424f82b
X-WR-TIMEZONE:America/New_York
BEGIN:VTIMEZONE
TZID:America/New_York
BEGIN:STANDARD
TZNAME:EST
DTSTART:20171105T020000
TZOFFSETFROM:-0400
TZOFFSETTO:-0500
RDATE:20181104T020000
END:STANDARD
BEGIN:DAYLIGHT
TZNAME:EDT
DTSTART:20170312T020000
TZOFFSETFROM:-0500
TZOFFSETTO:-0400
RDATE:20180311T020000
RDATE:20190310T020000
END:DAYLIGHT
END:VTIMEZONE
BEGIN:VEVENT
UID:dc139cf6-d4af-466c-94e6-566d86b4a218
DTSTAMP:20260423T133847Z
DESCRIPTION:
DTSTART;TZID=America/New_York:20180307T150000
DTEND;TZID=America/New_York:20180307T170000
LOCATION:TARC
SUMMARY:Bingo
END:VEVENT
END:VCALENDAR
