BEGIN:VCALENDAR
VERSION:2.0
PRODID:-//www.arcnbc.org//NONSGML kigkonsult.se iCalcreator 2.30.10//
CALSCALE:GREGORIAN
METHOD:PUBLISH
UID:5857b942-409e-4a8e-9ecb-23a2f2959999
X-WR-CALDESC:
X-WR-RELCALID:8852ecb194c42204878b22b15df555f7
X-WR-TIMEZONE:America/New_York
BEGIN:VTIMEZONE
TZID:America/New_York
BEGIN:STANDARD
TZNAME:EST
DTSTART:20171105T020000
TZOFFSETFROM:-0400
TZOFFSETTO:-0500
RDATE:20181104T020000
END:STANDARD
BEGIN:DAYLIGHT
TZNAME:EDT
DTSTART:20170312T020000
TZOFFSETFROM:-0500
TZOFFSETTO:-0400
RDATE:20180311T020000
RDATE:20190310T020000
END:DAYLIGHT
END:VTIMEZONE
BEGIN:VEVENT
UID:2129cbd0-deff-4373-b483-399e3816bb11
DTSTAMP:20260423T133650Z
DESCRIPTION:
DTSTART;TZID=America/New_York:20180309T190000
DTEND;TZID=America/New_York:20180309T230000
LOCATION:Arc Attleboro
SUMMARY:'The Tempest' Show
END:VEVENT
END:VCALENDAR
