BEGIN:VCALENDAR
VERSION:2.0
PRODID:-//www.arcnbc.org//NONSGML kigkonsult.se iCalcreator 2.30.10//
CALSCALE:GREGORIAN
METHOD:PUBLISH
UID:8919e28e-477c-4a7f-917f-f6f9db8bd8b8
X-WR-CALDESC:
X-WR-RELCALID:bcc906b014546d2e66b75c3b4235dec7
X-WR-TIMEZONE:America/New_York
BEGIN:VTIMEZONE
TZID:America/New_York
BEGIN:STANDARD
TZNAME:EST
DTSTART:20171105T020000
TZOFFSETFROM:-0400
TZOFFSETTO:-0500
RDATE:20181104T020000
END:STANDARD
BEGIN:DAYLIGHT
TZNAME:EDT
DTSTART:20170312T020000
TZOFFSETFROM:-0500
TZOFFSETTO:-0400
RDATE:20180311T020000
RDATE:20190310T020000
END:DAYLIGHT
END:VTIMEZONE
BEGIN:VEVENT
UID:d63e4950-c8fa-4016-9fc7-54dffd68b5a7
DTSTAMP:20260423T133146Z
DESCRIPTION:
DTSTART;TZID=America/New_York:20180312T173000
DTEND;TZID=America/New_York:20180312T210000
LOCATION:Arc Attleboro
SUMMARY:Round 1
END:VEVENT
END:VCALENDAR
