BEGIN:VCALENDAR
VERSION:2.0
PRODID:-//www.arcnbc.org//NONSGML kigkonsult.se iCalcreator 2.30.10//
CALSCALE:GREGORIAN
METHOD:PUBLISH
UID:699b95fa-bce2-463f-8314-8a5203f91a0d
X-WR-CALDESC:
X-WR-RELCALID:db75c53fb3712b5b7cd8233088171512
X-WR-TIMEZONE:America/New_York
BEGIN:VTIMEZONE
TZID:America/New_York
BEGIN:STANDARD
TZNAME:EST
DTSTART:20171105T020000
TZOFFSETFROM:-0400
TZOFFSETTO:-0500
RDATE:20181104T020000
END:STANDARD
BEGIN:DAYLIGHT
TZNAME:EDT
DTSTART:20180311T020000
TZOFFSETFROM:-0500
TZOFFSETTO:-0400
RDATE:20190310T020000
END:DAYLIGHT
END:VTIMEZONE
BEGIN:VEVENT
UID:eabd5f7e-5f8a-475f-9690-4b115ab04180
DTSTAMP:20260423T134041Z
DESCRIPTION:
DTSTART;TZID=America/New_York:20180313T173000
DTEND;TZID=America/New_York:20180313T183000
LOCATION:TARC
SUMMARY:Zumba-CANCELLED
END:VEVENT
END:VCALENDAR
