BEGIN:VCALENDAR
VERSION:2.0
PRODID:-//www.arcnbc.org//NONSGML kigkonsult.se iCalcreator 2.30.10//
CALSCALE:GREGORIAN
METHOD:PUBLISH
UID:5487c15d-9028-406f-88ce-995d9d50dc2f
X-WR-CALDESC:
X-WR-RELCALID:9c58073fda66775dbce5e396190d8781
X-WR-TIMEZONE:America/New_York
BEGIN:VTIMEZONE
TZID:America/New_York
BEGIN:STANDARD
TZNAME:EST
DTSTART:20171105T020000
TZOFFSETFROM:-0400
TZOFFSETTO:-0500
RDATE:20181104T020000
END:STANDARD
BEGIN:DAYLIGHT
TZNAME:EDT
DTSTART:20180311T020000
TZOFFSETFROM:-0500
TZOFFSETTO:-0400
RDATE:20190310T020000
END:DAYLIGHT
END:VTIMEZONE
BEGIN:VEVENT
UID:fe0a99bf-7979-4130-9a72-9fd6b862cfa8
DTSTAMP:20260423T133757Z
DESCRIPTION:
DTSTART;TZID=America/New_York:20180313T180000
DTEND;TZID=America/New_York:20180313T200000
LOCATION:East Providence Lanes
SUMMARY:Bowling-CANCELLED
END:VEVENT
END:VCALENDAR
