BEGIN:VCALENDAR
VERSION:2.0
PRODID:-//www.arcnbc.org//NONSGML kigkonsult.se iCalcreator 2.30.10//
CALSCALE:GREGORIAN
METHOD:PUBLISH
UID:0fc81451-b316-4c0e-9840-1f906308175c
X-WR-CALDESC:
X-WR-RELCALID:297cf0b2e43cd482aee6d88526b9ac01
X-WR-TIMEZONE:America/New_York
BEGIN:VTIMEZONE
TZID:America/New_York
BEGIN:STANDARD
TZNAME:EST
DTSTART:20171105T020000
TZOFFSETFROM:-0400
TZOFFSETTO:-0500
RDATE:20181104T020000
END:STANDARD
BEGIN:DAYLIGHT
TZNAME:EDT
DTSTART:20180311T020000
TZOFFSETFROM:-0500
TZOFFSETTO:-0400
RDATE:20190310T020000
END:DAYLIGHT
END:VTIMEZONE
BEGIN:VEVENT
UID:439dee06-4a89-499e-8624-c9c33d69850c
DTSTAMP:20260423T133042Z
DESCRIPTION:
DTSTART;TZID=America/New_York:20180313T150000
DTEND;TZID=America/New_York:20180313T170000
LOCATION:TARC
SUMMARY:IPADS
END:VEVENT
END:VCALENDAR
