BEGIN:VCALENDAR
VERSION:2.0
PRODID:-//www.arcnbc.org//NONSGML kigkonsult.se iCalcreator 2.30.10//
CALSCALE:GREGORIAN
METHOD:PUBLISH
UID:b6ff811e-135e-4af9-942d-daf710fdcc67
X-WR-CALDESC:
X-WR-RELCALID:49dcb0914e06307a532c5ad89627e073
X-WR-TIMEZONE:America/New_York
BEGIN:VTIMEZONE
TZID:America/New_York
BEGIN:STANDARD
TZNAME:EST
DTSTART:20171105T020000
TZOFFSETFROM:-0400
TZOFFSETTO:-0500
RDATE:20181104T020000
END:STANDARD
BEGIN:DAYLIGHT
TZNAME:EDT
DTSTART:20180311T020000
TZOFFSETFROM:-0500
TZOFFSETTO:-0400
RDATE:20190310T020000
END:DAYLIGHT
END:VTIMEZONE
BEGIN:VEVENT
UID:246b9af7-300c-4ed0-a3df-036074e1053d
DTSTAMP:20260423T133155Z
DESCRIPTION:
DTSTART;TZID=America/New_York:20180313T090000
DTEND;TZID=America/New_York:20180313T160000
LOCATION:Attleboro office
SUMMARY:NCI\, Attleboro
END:VEVENT
END:VCALENDAR
