BEGIN:VCALENDAR
VERSION:2.0
PRODID:-//www.arcnbc.org//NONSGML kigkonsult.se iCalcreator 2.30.10//
CALSCALE:GREGORIAN
METHOD:PUBLISH
UID:96410f4f-336a-4da4-8ae7-f19b14ef77ed
X-WR-CALDESC:Financial Planning presentation. Presenters will assist partic
 ipants in: Preserving Benefits through Estate Planning (Rich Harwood)\; Na
 vigating Social Security (Kim Melo)\; and Special Needs Trusts (Jennifer S
 weet)
X-WR-RELCALID:48c5770d04693b6d7e90f74a77e8ce09
X-WR-TIMEZONE:America/New_York
BEGIN:VTIMEZONE
TZID:America/New_York
BEGIN:STANDARD
TZNAME:EST
DTSTART:20171105T020000
TZOFFSETFROM:-0400
TZOFFSETTO:-0500
RDATE:20181104T020000
END:STANDARD
BEGIN:DAYLIGHT
TZNAME:EDT
DTSTART:20180311T020000
TZOFFSETFROM:-0500
TZOFFSETTO:-0400
RDATE:20190310T020000
END:DAYLIGHT
END:VTIMEZONE
BEGIN:VEVENT
UID:0cc24a99-ceda-44d3-a4ee-9d7b955844ee
DTSTAMP:20260423T133810Z
DESCRIPTION:Financial Planning presentation. Presenters will assist partici
 pants in: Preserving Benefits through Estate Planning (Rich Harwood)\; Nav
 igating Social Security (Kim Melo)\; and Special Needs Trusts (Jennifer Sw
 eet)
DTSTART;TZID=America/New_York:20180313T180000
DTEND;TZID=America/New_York:20180313T200000
LOCATION:284 John L. Dietsch Blvd\, N. Attleboro\, MA
SUMMARY:Planning for the Future-CANCELLED
END:VEVENT
END:VCALENDAR
