BEGIN:VCALENDAR
VERSION:2.0
PRODID:-//www.arcnbc.org//NONSGML kigkonsult.se iCalcreator 2.30.10//
CALSCALE:GREGORIAN
METHOD:PUBLISH
UID:998ec8f6-d476-4271-9ac7-89138b758d04
X-WR-CALDESC:
X-WR-RELCALID:ceaadf513d41ef993005892854f12e02
X-WR-TIMEZONE:America/New_York
BEGIN:VTIMEZONE
TZID:America/New_York
BEGIN:STANDARD
TZNAME:EST
DTSTART:20171105T020000
TZOFFSETFROM:-0400
TZOFFSETTO:-0500
RDATE:20181104T020000
END:STANDARD
BEGIN:DAYLIGHT
TZNAME:EDT
DTSTART:20180311T020000
TZOFFSETFROM:-0500
TZOFFSETTO:-0400
RDATE:20190310T020000
END:DAYLIGHT
END:VTIMEZONE
BEGIN:VEVENT
UID:ce5fcbc7-40ec-4d13-999a-dd0adb1e1da9
DTSTAMP:20260423T134043Z
DESCRIPTION:
DTSTART;TZID=America/New_York:20180314T150000
DTEND;TZID=America/New_York:20180314T170000
LOCATION:TARC
SUMMARY:Arts and Crafts
END:VEVENT
END:VCALENDAR
