BEGIN:VCALENDAR
VERSION:2.0
PRODID:-//www.arcnbc.org//NONSGML kigkonsult.se iCalcreator 2.30.10//
CALSCALE:GREGORIAN
METHOD:PUBLISH
UID:f9889d4d-f00e-4560-881e-b32902942388
X-WR-CALDESC:Join us at the Memory Cafe\, a welcoming place for individuals
  living with memory changes and their care partners. Celebrate the Irish w
 ith an afternoon of music\, games and more!
X-WR-RELCALID:e9b5a59d918c260f990c426f76cd0ae0
X-WR-TIMEZONE:America/New_York
BEGIN:VTIMEZONE
TZID:America/New_York
BEGIN:STANDARD
TZNAME:EST
DTSTART:20171105T020000
TZOFFSETFROM:-0400
TZOFFSETTO:-0500
RDATE:20181104T020000
END:STANDARD
BEGIN:DAYLIGHT
TZNAME:EDT
DTSTART:20180311T020000
TZOFFSETFROM:-0500
TZOFFSETTO:-0400
RDATE:20190310T020000
END:DAYLIGHT
END:VTIMEZONE
BEGIN:VEVENT
UID:46ef99c3-f280-4e64-80ed-8734676880b3
DTSTAMP:20260423T151156Z
DESCRIPTION:Join us at the Memory Cafe\, a welcoming place for individuals 
 living with memory changes and their care partners. Celebrate the Irish wi
 th an afternoon of music\, games and more!
DTSTART;TZID=America/New_York:20180314T133000
DTEND;TZID=America/New_York:20180314T150000
LOCATION:Attleboro Public Library
SUMMARY:Memory Cafe-CANCELLED
END:VEVENT
END:VCALENDAR
