BEGIN:VCALENDAR
VERSION:2.0
PRODID:-//www.arcnbc.org//NONSGML kigkonsult.se iCalcreator 2.30.10//
CALSCALE:GREGORIAN
METHOD:PUBLISH
UID:30f459fe-6b4f-4a52-9f9f-cb8e2ded71c7
X-WR-CALDESC:
X-WR-RELCALID:989548ea34e6c28bfc7989e0279c6106
X-WR-TIMEZONE:America/New_York
BEGIN:VTIMEZONE
TZID:America/New_York
BEGIN:STANDARD
TZNAME:EST
DTSTART:20171105T020000
TZOFFSETFROM:-0400
TZOFFSETTO:-0500
RDATE:20181104T020000
END:STANDARD
BEGIN:DAYLIGHT
TZNAME:EDT
DTSTART:20180311T020000
TZOFFSETFROM:-0500
TZOFFSETTO:-0400
RDATE:20190310T020000
END:DAYLIGHT
END:VTIMEZONE
BEGIN:VEVENT
UID:03eb1f1c-e063-4bad-845f-0335d1d5c0fe
DTSTAMP:20260423T133642Z
DESCRIPTION:
DTSTART;TZID=America/New_York:20180316T190000
DTEND;TZID=America/New_York:20180316T210000
LOCATION:Attleboro YMCA Pleasant St. Branch
SUMMARY:GO Night
END:VEVENT
END:VCALENDAR
